BEGIN:VCALENDAR
VERSION:2.0
CALSCALE:GREGORIAN
PRODID:adamgibbons/ics
METHOD:PUBLISH
X-PUBLISHED-TTL:PT1H
BEGIN:VEVENT
UID:148@bootblack.events
SUMMARY:Bootblacking at Leather Social Rotterdam
DTSTAMP:20260424T165403Z
DTSTART:20260221T140000Z
DTEND:20260221T180000Z
URL:https://bootblack.events/event/bootblacking-at-leather-social-rotterdam
GEO:51.9170199;4.475494
LOCATION:FERRY Rotterdam - Westblaak 127 3012 KJ Rotterdam
STATUS:CONFIRMED
CATEGORIES:
END:VEVENT
BEGIN:VEVENT
UID:59@bootblack.events
SUMMARY:Bootblacking @ Rotterdam Leather Social
DTSTAMP:20260424T165403Z
DTSTART:20250315T140000Z
DESCRIPTION:Bootblack stand at the Leather Social Rotterdam\n\nMore Info: h
	ttps://linktr.ee/leathersocial_rotterdam\n[https://linktr.ee/leathersocial
	_rotterdam]
URL:https://bootblack.events/event/bootblacking-rotterdam-leather-social
GEO:51.9170199;4.475494
LOCATION:FERRY Rotterdam - Westblaak 127 3012 KJ Rotterdam
STATUS:CONFIRMED
CATEGORIES:Netherlands,Bootblack Stand,Rotterdam
X-ALT-DESC;FMTTYPE=text/html:<p>Bootblack stand at the Leather Social Rotte
	rdam</p><p>More Info: <a target="_blank" href="https://linktr.ee/leatherso
	cial_rotterdam">https://linktr.ee/leathersocial_rotterdam</a></p>
END:VEVENT
END:VCALENDAR
